BEGIN:VCALENDAR
VERSION:2.0
PRODID:icalendar-ruby
CALSCALE:GREGORIAN
METHOD:PUBLISH
BEGIN:VEVENT
DTSTAMP:20260422T145005Z
UID:4561ae5e-f142-4ba3-a3a8-43f9a7864faa
DTSTART;VALUE=DATE:20160222
DTEND;VALUE=DATE:20160222
DESCRIPTION:Daytona BMX
LOCATION:1670 Strickland Range Rd  Holly Hill FL 32117 USA
SUMMARY:Practice
URL:/site/bmx_races/305461
END:VEVENT
END:VCALENDAR
