BEGIN:VCALENDAR
VERSION:2.0
PRODID:icalendar-ruby
CALSCALE:GREGORIAN
METHOD:PUBLISH
BEGIN:VEVENT
DTSTAMP:20260422T145047Z
UID:649a0015-91f3-4a41-8cd9-15ca90ac0bbc
DTSTART;VALUE=DATE:20160229
DTEND;VALUE=DATE:20160229
DESCRIPTION:Daytona BMX
LOCATION:1670 Strickland Range Rd  Holly Hill FL 32117 USA
SUMMARY:Practice
URL:/site/bmx_races/305464
END:VEVENT
END:VCALENDAR
