BEGIN:VCALENDAR
VERSION:2.0
PRODID:icalendar-ruby
CALSCALE:GREGORIAN
METHOD:PUBLISH
BEGIN:VEVENT
DTSTAMP:20260422T081728Z
UID:9c2ba3a1-ac6b-48e5-96e6-fcadee28396a
DTSTART;VALUE=DATE:20160624
DTEND;VALUE=DATE:20160624
DESCRIPTION:Daytona BMX
LOCATION:1670 Strickland Range Rd  Holly Hill FL 32117 USA
SUMMARY:Practice
URL:/site/bmx_races/305617
END:VEVENT
END:VCALENDAR
