BEGIN:VCALENDAR
VERSION:2.0
PRODID:icalendar-ruby
CALSCALE:GREGORIAN
METHOD:PUBLISH
BEGIN:VEVENT
DTSTAMP:20260422T083018Z
UID:1bf346a6-754b-4e6c-966c-52bf9c05adef
DTSTART;VALUE=DATE:20160325
DTEND;VALUE=DATE:20160325
DESCRIPTION:Sand Springs BMX
LOCATION:2600 S River City Park Rd  Sand Springs OK 74063 USA
SUMMARY:Local Race Single
URL:/site/bmx_races/306190
END:VEVENT
END:VCALENDAR
