BEGIN:VCALENDAR
VERSION:2.0
PRODID:icalendar-ruby
CALSCALE:GREGORIAN
METHOD:PUBLISH
BEGIN:VEVENT
DTSTAMP:20260423T154726Z
UID:982bdd93-ff6f-4628-8404-d899463f1841
DTSTART;VALUE=DATE:20160416
DTEND;VALUE=DATE:20160416
DESCRIPTION:Trilogy Park BMX
LOCATION:75 W King St  Pottstown PA 19464 USA
SUMMARY:Local Race Single
URL:/site/bmx_races/306573
END:VEVENT
END:VCALENDAR
