BEGIN:VCALENDAR
VERSION:2.0
PRODID:icalendar-ruby
CALSCALE:GREGORIAN
METHOD:PUBLISH
BEGIN:VEVENT
DTSTAMP:20260422T171308Z
UID:4578eac6-b6b6-4fca-8c04-4c529872fbf9
DTSTART;VALUE=DATE:20160906
DTEND;VALUE=DATE:20160906
DESCRIPTION:Oak Mountain BMX
LOCATION:Oak Mountain State Park  Pelham AL 35043 USA
SUMMARY:Practice
URL:/site/bmx_races/306686
END:VEVENT
END:VCALENDAR
