BEGIN:VCALENDAR
VERSION:2.0
PRODID:icalendar-ruby
CALSCALE:GREGORIAN
METHOD:PUBLISH
BEGIN:VEVENT
DTSTAMP:20260424T200037Z
UID:e650f8bd-3c63-47a4-9017-40dd7eeb2686
DTSTART;VALUE=DATE:20160712
DTEND;VALUE=DATE:20160712
DESCRIPTION:Yukon BMX
LOCATION:Taylor Park Sports Complex   410 N 11th St Yukon OK 73064 USA
SUMMARY:Practice
URL:/site/bmx_races/306982
END:VEVENT
END:VCALENDAR
