BEGIN:VCALENDAR
VERSION:2.0
PRODID:icalendar-ruby
CALSCALE:GREGORIAN
METHOD:PUBLISH
BEGIN:VEVENT
DTSTAMP:20260422T010626Z
UID:9efdb197-f4b5-43e3-8534-012218baa3e0
DTSTART;VALUE=DATE:20160511
DTEND;VALUE=DATE:20160511
DESCRIPTION:Indy Cycloplex BMX
LOCATION:3649 Cold Spring Road  Adjacent To The Major Taylor Velodrome INDI
 ANAPOLIS IN 46222 USA
SUMMARY:Practice
URL:/site/bmx_races/307062
END:VEVENT
END:VCALENDAR
