BEGIN:VCALENDAR
VERSION:2.0
PRODID:icalendar-ruby
CALSCALE:GREGORIAN
METHOD:PUBLISH
BEGIN:VEVENT
DTSTAMP:20260421T220127Z
UID:64522070-faef-40db-a6f8-3278a2807869
DTSTART;VALUE=DATE:20160701
DTEND;VALUE=DATE:20160701
DESCRIPTION:Indy Cycloplex BMX
LOCATION:3649 Cold Spring Road  Adjacent To The Major Taylor Velodrome INDI
 ANAPOLIS IN 46222 USA
SUMMARY:Practice
URL:/site/bmx_races/307084
END:VEVENT
END:VCALENDAR
