BEGIN:VCALENDAR
VERSION:2.0
PRODID:icalendar-ruby
CALSCALE:GREGORIAN
METHOD:PUBLISH
BEGIN:VEVENT
DTSTAMP:20260421T201905Z
UID:e09ed682-4f1a-4568-be33-facb753587e9
DTSTART;VALUE=DATE:20160810
DTEND;VALUE=DATE:20160810
DESCRIPTION:Indy Cycloplex BMX
LOCATION:3649 Cold Spring Road  Adjacent To The Major Taylor Velodrome INDI
 ANAPOLIS IN 46222 USA
SUMMARY:Practice
URL:/site/bmx_races/307101
END:VEVENT
END:VCALENDAR
