BEGIN:VCALENDAR
VERSION:2.0
PRODID:icalendar-ruby
CALSCALE:GREGORIAN
METHOD:PUBLISH
BEGIN:VEVENT
DTSTAMP:20260421T202122Z
UID:cc30d577-e887-4019-9150-bc209c8e931d
DTSTART;VALUE=DATE:20160826
DTEND;VALUE=DATE:20160826
DESCRIPTION:Indy Cycloplex BMX
LOCATION:3649 Cold Spring Road  Adjacent To The Major Taylor Velodrome INDI
 ANAPOLIS IN 46222 USA
SUMMARY:Practice
URL:/site/bmx_races/307108
END:VEVENT
END:VCALENDAR
