BEGIN:VCALENDAR
VERSION:2.0
PRODID:icalendar-ruby
CALSCALE:GREGORIAN
METHOD:PUBLISH
BEGIN:VEVENT
DTSTAMP:20260424T232223Z
UID:6f7d8fec-f9b7-45ec-8c51-5a1b01ca3cab
DTSTART;VALUE=DATE:20160816
DTEND;VALUE=DATE:20160816
DESCRIPTION:80/35 BMX
LOCATION:1701 E Mc Kinley Ave  Des Moines IA 50320 USA
SUMMARY:Local Race Single
URL:/site/bmx_races/307519
END:VEVENT
END:VCALENDAR
