BEGIN:VCALENDAR
VERSION:2.0
PRODID:icalendar-ruby
CALSCALE:GREGORIAN
METHOD:PUBLISH
BEGIN:VEVENT
DTSTAMP:20260419T183426Z
UID:7362f507-aa94-449f-825a-9d5137950622
DTSTART;VALUE=DATE:20160318
DTEND;VALUE=DATE:20160318
DESCRIPTION:Smith Rock BMX
LOCATION:1935 Ne Maple  Redmond OR 97756 USA
SUMMARY:Local Race Single
URL:/site/bmx_races/307633
END:VEVENT
END:VCALENDAR
