BEGIN:VCALENDAR
VERSION:2.0
PRODID:icalendar-ruby
CALSCALE:GREGORIAN
METHOD:PUBLISH
BEGIN:VEVENT
DTSTAMP:20260423T051403Z
UID:d88b7b8b-c641-4175-836f-ac15032aafda
DTSTART;VALUE=DATE:20160817
DTEND;VALUE=DATE:20160817
DESCRIPTION:Central Jersey BMX
LOCATION:2449 U.S. 9  Howell NJ 7731 USA
SUMMARY:Local Race Single
URL:/site/bmx_races/308241
END:VEVENT
END:VCALENDAR
