BEGIN:VCALENDAR
VERSION:2.0
PRODID:icalendar-ruby
CALSCALE:GREGORIAN
METHOD:PUBLISH
BEGIN:VEVENT
DTSTAMP:20260421T024046Z
UID:f923de75-fb6e-470c-9902-bdb9db2e4288
DTSTART;VALUE=DATE:20160207
DTEND;VALUE=DATE:20160207
DESCRIPTION:San Diego BMX
LOCATION:3170 Armstrong Street Behind Kearny Mesa Recreation Center San Die
 go CA 92111 USA
SUMMARY:Standard Single
URL:/site/bmx_races/308610
END:VEVENT
END:VCALENDAR
