BEGIN:VCALENDAR
VERSION:2.0
PRODID:icalendar-ruby
CALSCALE:GREGORIAN
METHOD:PUBLISH
BEGIN:VEVENT
DTSTAMP:20260421T024038Z
UID:d277234d-18c6-4c9a-8d89-dd8fdc17e8b0
DTSTART;VALUE=DATE:20160203
DTEND;VALUE=DATE:20160203
DESCRIPTION:San Diego BMX
LOCATION:3170 Armstrong Street Behind Kearny Mesa Recreation Center San Die
 go CA 92111 USA
SUMMARY:Standard Single
URL:/site/bmx_races/308614
END:VEVENT
END:VCALENDAR
