BEGIN:VCALENDAR
VERSION:2.0
PRODID:icalendar-ruby
CALSCALE:GREGORIAN
METHOD:PUBLISH
BEGIN:VEVENT
DTSTAMP:20260423T123850Z
UID:58b6ccba-798c-4058-a525-1f96bec68c63
DTSTART;VALUE=DATE:20160724
DTEND;VALUE=DATE:20160724
DESCRIPTION:Aberdeen Hub Area BMX
LOCATION:1111 1st Ave Se  Aberdeen SD 57401 USA
SUMMARY:Local Race Single
URL:/site/bmx_races/309746
END:VEVENT
END:VCALENDAR
