BEGIN:VCALENDAR
VERSION:2.0
PRODID:icalendar-ruby
CALSCALE:GREGORIAN
METHOD:PUBLISH
BEGIN:VEVENT
DTSTAMP:20260422T171308Z
UID:878cd798-36f8-4b97-8a0c-0628290d717a
DTSTART;VALUE=DATE:20160929
DTEND;VALUE=DATE:20160929
DESCRIPTION:Manzanita Park BMX
LOCATION: 17100 Castroville Blvd  Prunedale CA 93907 USA
SUMMARY:Local Race Single
URL:/site/bmx_races/309859
END:VEVENT
END:VCALENDAR
