BEGIN:VCALENDAR
VERSION:2.0
PRODID:icalendar-ruby
CALSCALE:GREGORIAN
METHOD:PUBLISH
BEGIN:VEVENT
DTSTAMP:20260425T184852Z
UID:6d86eebe-4b8b-4021-8192-4fe5337084be
DTSTART;VALUE=DATE:20160301
DTEND;VALUE=DATE:20160301
DESCRIPTION:Shelby Farms BMX
LOCATION:6435 Walnut Grove Rd  Memphis TN 38119 USA
SUMMARY:Local Race Single
URL:/site/bmx_races/310009
END:VEVENT
END:VCALENDAR
