BEGIN:VCALENDAR
VERSION:2.0
PRODID:icalendar-ruby
CALSCALE:GREGORIAN
METHOD:PUBLISH
BEGIN:VEVENT
DTSTAMP:20260422T180944Z
UID:4e9bc141-d6f9-4401-864b-2884096123b2
DTSTART;VALUE=DATE:20160623
DTEND;VALUE=DATE:20160623
DESCRIPTION:Manzanita Park BMX
LOCATION: 17100 Castroville Blvd  Prunedale CA 93907 USA
SUMMARY:Olympic Day Single
URL:/site/bmx_races/310077
END:VEVENT
END:VCALENDAR
