BEGIN:VCALENDAR
VERSION:2.0
PRODID:icalendar-ruby
CALSCALE:GREGORIAN
METHOD:PUBLISH
BEGIN:VEVENT
DTSTAMP:20260424T064112Z
UID:58eec30c-82c5-4569-9669-f4d943d9cbb0
DTSTART;VALUE=DATE:20160328
DTEND;VALUE=DATE:20160328
DESCRIPTION:Cactus Park BMX
LOCATION:10610 Ashwood St  Lakeside CA 92040 USA
SUMMARY:Local Race Single
URL:/site/bmx_races/311439
END:VEVENT
END:VCALENDAR
