BEGIN:VCALENDAR
VERSION:2.0
PRODID:icalendar-ruby
CALSCALE:GREGORIAN
METHOD:PUBLISH
BEGIN:VEVENT
DTSTAMP:20260419T155524Z
UID:cd897508-e07c-465e-8223-31a8007edff7
DTSTART;VALUE=DATE:20160505
DTEND;VALUE=DATE:20160505
DESCRIPTION:Cactus Park BMX
LOCATION:10610 Ashwood St  Lakeside CA 92040 USA
SUMMARY:Local Race Single
URL:/site/bmx_races/311455
END:VEVENT
END:VCALENDAR
