BEGIN:VCALENDAR
VERSION:2.0
PRODID:icalendar-ruby
CALSCALE:GREGORIAN
METHOD:PUBLISH
BEGIN:VEVENT
DTSTAMP:20260420T231527Z
UID:16c3d7c6-1bfd-4143-ad28-65156a79efbd
DTSTART;VALUE=DATE:20160408
DTEND;VALUE=DATE:20160408
DESCRIPTION:San Diego BMX
LOCATION:3170 Armstrong Street Behind Kearny Mesa Recreation Center San Die
 go CA 92111 USA
SUMMARY:Local Race Single
URL:/site/bmx_races/311581
END:VEVENT
END:VCALENDAR
