BEGIN:VCALENDAR
VERSION:2.0
PRODID:icalendar-ruby
CALSCALE:GREGORIAN
METHOD:PUBLISH
BEGIN:VEVENT
DTSTAMP:20260420T231448Z
UID:b1366be5-955a-49ae-94bf-acb1cd7920e0
DTSTART;VALUE=DATE:20160413
DTEND;VALUE=DATE:20160413
DESCRIPTION:San Diego BMX
LOCATION:3170 Armstrong Street Behind Kearny Mesa Recreation Center San Die
 go CA 92111 USA
SUMMARY:Local Race Single
URL:/site/bmx_races/311583
END:VEVENT
END:VCALENDAR
