BEGIN:VCALENDAR
VERSION:2.0
PRODID:icalendar-ruby
CALSCALE:GREGORIAN
METHOD:PUBLISH
BEGIN:VEVENT
DTSTAMP:20260420T231448Z
UID:ac505c79-2195-4db6-9293-d03f0d94153f
DTSTART;VALUE=DATE:20160424
DTEND;VALUE=DATE:20160424
DESCRIPTION:San Diego BMX
LOCATION:3170 Armstrong Street Behind Kearny Mesa Recreation Center San Die
 go CA 92111 USA
SUMMARY:Local Race Single
URL:/site/bmx_races/311588
END:VEVENT
END:VCALENDAR
