BEGIN:VCALENDAR
VERSION:2.0
PRODID:icalendar-ruby
CALSCALE:GREGORIAN
METHOD:PUBLISH
BEGIN:VEVENT
DTSTAMP:20260420T213844Z
UID:356e0095-bf09-4d0b-ac95-3127df9843f7
DTSTART;VALUE=DATE:20160508
DTEND;VALUE=DATE:20160508
DESCRIPTION:San Diego BMX
LOCATION:3170 Armstrong Street Behind Kearny Mesa Recreation Center San Die
 go CA 92111 USA
SUMMARY:Local Race Single
URL:/site/bmx_races/311594
END:VEVENT
END:VCALENDAR
