BEGIN:VCALENDAR
VERSION:2.0
PRODID:icalendar-ruby
CALSCALE:GREGORIAN
METHOD:PUBLISH
BEGIN:VEVENT
DTSTAMP:20260420T180101Z
UID:4029a58e-9297-42b7-b3a0-cf74bb181536
DTSTART;VALUE=DATE:20160706
DTEND;VALUE=DATE:20160706
DESCRIPTION:San Diego BMX
LOCATION:3170 Armstrong Street Behind Kearny Mesa Recreation Center San Die
 go CA 92111 USA
SUMMARY:Local Race Single
URL:/site/bmx_races/311619
END:VEVENT
END:VCALENDAR
