BEGIN:VCALENDAR
VERSION:2.0
PRODID:icalendar-ruby
CALSCALE:GREGORIAN
METHOD:PUBLISH
BEGIN:VEVENT
DTSTAMP:20260419T213336Z
UID:ad7b6147-cb36-44c2-9e2a-e6d68e5f543c
DTSTART;VALUE=DATE:20161202
DTEND;VALUE=DATE:20161202
DESCRIPTION:San Diego BMX
LOCATION:3170 Armstrong Street Behind Kearny Mesa Recreation Center San Die
 go CA 92111 USA
SUMMARY:Local Race Single
URL:/site/bmx_races/311683
END:VEVENT
END:VCALENDAR
