BEGIN:VCALENDAR
VERSION:2.0
PRODID:icalendar-ruby
CALSCALE:GREGORIAN
METHOD:PUBLISH
BEGIN:VEVENT
DTSTAMP:20260424T212520Z
UID:5b334dca-66b2-4797-b46a-1bf74cdafad1
DTSTART;VALUE=DATE:20160514
DTEND;VALUE=DATE:20160514
DESCRIPTION:Freedom Park BMX Raceway
LOCATION:530 Convair St  Camarillo CA 93010 USA
SUMMARY:Local Race Single
URL:/site/bmx_races/312064
END:VEVENT
END:VCALENDAR
