BEGIN:VCALENDAR
VERSION:2.0
PRODID:icalendar-ruby
CALSCALE:GREGORIAN
METHOD:PUBLISH
BEGIN:VEVENT
DTSTAMP:20260425T132547Z
UID:cd57cc14-1d95-431a-bc89-78a9c3acb07c
DTSTART;VALUE=DATE:20161111
DTEND;VALUE=DATE:20161111
DESCRIPTION:Duke City BMX
LOCATION:1011 Buena Vista Dr Se  Albuquerque NM 87106 USA
SUMMARY:Local Race Single
URL:/site/bmx_races/312222
END:VEVENT
END:VCALENDAR
