BEGIN:VCALENDAR
VERSION:2.0
PRODID:icalendar-ruby
CALSCALE:GREGORIAN
METHOD:PUBLISH
BEGIN:VEVENT
DTSTAMP:20260424T022435Z
UID:4f6af8a1-8c9f-4930-9e95-339692a00a84
DTSTART;VALUE=DATE:20160530
DTEND;VALUE=DATE:20160530
DESCRIPTION:Rad Canyon BMX
LOCATION:5200 W 9800 S  West Jordan UT 84081 USA
SUMMARY:Practice
URL:/site/bmx_races/312277
END:VEVENT
END:VCALENDAR
