BEGIN:VCALENDAR
VERSION:2.0
PRODID:icalendar-ruby
CALSCALE:GREGORIAN
METHOD:PUBLISH
BEGIN:VEVENT
DTSTAMP:20260419T163511Z
UID:e22e5b52-e185-462e-9160-aaa5baad8b24
DTSTART;VALUE=DATE:20160612
DTEND;VALUE=DATE:20160612
DESCRIPTION:Moses Lake BMX
LOCATION:610 Yakima Ave  Moses Lake WA 98837 USA
SUMMARY:Race for Life Single
URL:/site/bmx_races/312467
END:VEVENT
END:VCALENDAR
