BEGIN:VCALENDAR
VERSION:2.0
PRODID:icalendar-ruby
CALSCALE:GREGORIAN
METHOD:PUBLISH
BEGIN:VEVENT
DTSTAMP:20260421T044438Z
UID:c1640f0f-d9ae-4605-9490-0290979264cd
DTSTART;VALUE=DATE:20160412
DTEND;VALUE=DATE:20160412
DESCRIPTION:Mag Ridge BMX Park
LOCATION:344 Oldtown Crossing  Ridgeland MS 39157 USA
SUMMARY:Practice
URL:/site/bmx_races/312984
END:VEVENT
END:VCALENDAR
