BEGIN:VCALENDAR
VERSION:2.0
PRODID:icalendar-ruby
CALSCALE:GREGORIAN
METHOD:PUBLISH
BEGIN:VEVENT
DTSTAMP:20260423T051353Z
UID:4cc9242e-5ba8-48da-be4d-58f0d96e5de3
DTSTART;VALUE=DATE:20160826
DTEND;VALUE=DATE:20160826
DESCRIPTION:Burdette Park BMX
LOCATION:5821 Nurrenbern Rd  Evansville IN 47712 USA
SUMMARY:Local Race Single
URL:/site/bmx_races/314309
END:VEVENT
END:VCALENDAR
