BEGIN:VCALENDAR
VERSION:2.0
PRODID:icalendar-ruby
CALSCALE:GREGORIAN
METHOD:PUBLISH
BEGIN:VEVENT
DTSTAMP:20260425T004832Z
UID:dabffd4b-5fe8-4563-a578-6ab92c157a8a
DTSTART;VALUE=DATE:20160410
DTEND;VALUE=DATE:20160410
DESCRIPTION:Grand Valley BMX
LOCATION:2785 U.S. Highway 50  Grand Junction CO 81503 USA
SUMMARY:Clinic
URL:/site/bmx_races/314670
END:VEVENT
END:VCALENDAR
