BEGIN:VCALENDAR
VERSION:2.0
PRODID:icalendar-ruby
CALSCALE:GREGORIAN
METHOD:PUBLISH
BEGIN:VEVENT
DTSTAMP:20260424T191756Z
UID:df0be5f6-e5b2-43f0-9a8e-c0f82d877eb7
DTSTART;VALUE=DATE:20160513
DTEND;VALUE=DATE:20160513
DESCRIPTION:South Towns BMX
LOCATION:2982 Lakeview Rd  Hamburg NY 14075 USA
SUMMARY:Local Race Single
URL:/site/bmx_races/315147
END:VEVENT
END:VCALENDAR
