BEGIN:VCALENDAR
VERSION:2.0
PRODID:icalendar-ruby
CALSCALE:GREGORIAN
METHOD:PUBLISH
BEGIN:VEVENT
DTSTAMP:20260424T174622Z
UID:a666c442-5790-405e-8790-5eb74d8b4c58
DTSTART;VALUE=DATE:20160608
DTEND;VALUE=DATE:20160608
DESCRIPTION:South Towns BMX
LOCATION:2982 Lakeview Rd  Hamburg NY 14075 USA
SUMMARY:Practice
URL:/site/bmx_races/315153
END:VEVENT
END:VCALENDAR
