BEGIN:VCALENDAR
VERSION:2.0
PRODID:icalendar-ruby
CALSCALE:GREGORIAN
METHOD:PUBLISH
BEGIN:VEVENT
DTSTAMP:20260425T004915Z
UID:e52a1926-1dee-4802-b740-6b7822062d72
DTSTART;VALUE=DATE:20160815
DTEND;VALUE=DATE:20160815
DESCRIPTION:Bigfoot BMX
LOCATION:600 128th St Se  Everett WA 98201 USA
SUMMARY:Warnicke Single
URL:/site/bmx_races/316033
END:VEVENT
END:VCALENDAR
