BEGIN:VCALENDAR
VERSION:2.0
PRODID:icalendar-ruby
CALSCALE:GREGORIAN
METHOD:PUBLISH
BEGIN:VEVENT
DTSTAMP:20260425T140138Z
UID:eccbf7af-1dd6-40d7-b3e1-c2e6627d8880
DTSTART;VALUE=DATE:20160514
DTEND;VALUE=DATE:20160514
DESCRIPTION:Goodyear BMX Raceway
LOCATION:15660 W Roeser Rd  Goodyear AZ 85338 USA
SUMMARY:Race for Life Single
URL:/site/bmx_races/316402
END:VEVENT
END:VCALENDAR
