BEGIN:VCALENDAR
VERSION:2.0
PRODID:icalendar-ruby
CALSCALE:GREGORIAN
METHOD:PUBLISH
BEGIN:VEVENT
DTSTAMP:20260424T213408Z
UID:4e8fd175-d7cd-41a4-90f0-66258e2b360c
DTSTART;VALUE=DATE:20160514
DTEND;VALUE=DATE:20160514
DESCRIPTION:Marquette BMX
LOCATION:910 Hawley Street  Marquette MI 49855 USA
SUMMARY:Practice
URL:/site/bmx_races/316435
END:VEVENT
END:VCALENDAR
