BEGIN:VCALENDAR
VERSION:2.0
PRODID:icalendar-ruby
CALSCALE:GREGORIAN
METHOD:PUBLISH
BEGIN:VEVENT
DTSTAMP:20260424T170916Z
UID:4435f9bd-2086-4270-8d32-d0fd7faf78ee
DTSTART;VALUE=DATE:20160811
DTEND;VALUE=DATE:20160811
DESCRIPTION:Marquette BMX
LOCATION:910 Hawley Street  Marquette MI 49855 USA
SUMMARY:Local Race Single
URL:/site/bmx_races/316459
END:VEVENT
END:VCALENDAR
