BEGIN:VCALENDAR
VERSION:2.0
PRODID:icalendar-ruby
CALSCALE:GREGORIAN
METHOD:PUBLISH
BEGIN:VEVENT
DTSTAMP:20260419T142318Z
UID:2b24f56e-4a58-4cf3-954b-91b37597666f
DTSTART;VALUE=DATE:20160419
DTEND;VALUE=DATE:20160419
DESCRIPTION:Oak Mountain BMX
LOCATION:Oak Mountain State Park  Pelham AL 35043 USA
SUMMARY:Local Race Single
URL:/site/bmx_races/316470
END:VEVENT
END:VCALENDAR
