BEGIN:VCALENDAR
VERSION:2.0
PRODID:icalendar-ruby
CALSCALE:GREGORIAN
METHOD:PUBLISH
BEGIN:VEVENT
DTSTAMP:20260426T035901Z
UID:3fbc9c7a-3f06-4686-945d-945c4092d040
DTSTART;VALUE=DATE:20160623
DTEND;VALUE=DATE:20160623
DESCRIPTION:Silver Dollar BMX
LOCATION:2352 Dr. Martin Luther King Jr. Parkway  Chico CA 95928 USA
SUMMARY:Local Race Single
URL:/site/bmx_races/316930
END:VEVENT
END:VCALENDAR
