BEGIN:VCALENDAR
VERSION:2.0
PRODID:icalendar-ruby
CALSCALE:GREGORIAN
METHOD:PUBLISH
BEGIN:VEVENT
DTSTAMP:20260421T201932Z
UID:63e636bc-a0ef-4de9-bfbb-c706329f35e4
DTSTART;VALUE=DATE:20160428
DTEND;VALUE=DATE:20160428
DESCRIPTION:Lexington BMX
LOCATION:1159 Nazareth Road  Lexington SC 29073 USA
SUMMARY:Practice
URL:/site/bmx_races/316969
END:VEVENT
END:VCALENDAR
