BEGIN:VCALENDAR
VERSION:2.0
PRODID:icalendar-ruby
CALSCALE:GREGORIAN
METHOD:PUBLISH
BEGIN:VEVENT
DTSTAMP:20260425T130740Z
UID:f00ae700-cecd-42fc-947f-4f4b20de143e
DTSTART;VALUE=DATE:20160418
DTEND;VALUE=DATE:20160418
DESCRIPTION:Penticton BMX
LOCATION:630 Munson Mountain Road  Penticton BC V2A 8S5 CAN
SUMMARY:Standard Single
URL:/site/bmx_races/317213
END:VEVENT
END:VCALENDAR
