BEGIN:VCALENDAR
VERSION:2.0
PRODID:icalendar-ruby
CALSCALE:GREGORIAN
METHOD:PUBLISH
BEGIN:VEVENT
DTSTAMP:20260425T005203Z
UID:f26f5503-4c13-4872-bb5d-10bdc5a76f16
DTSTART;VALUE=DATE:20160731
DTEND;VALUE=DATE:20160731
DESCRIPTION:80/35 BMX
LOCATION:1701 E Mc Kinley Ave  Des Moines IA 50320 USA
SUMMARY:Race for Life Single
URL:/site/bmx_races/317753
END:VEVENT
END:VCALENDAR
