BEGIN:VCALENDAR
VERSION:2.0
PRODID:icalendar-ruby
CALSCALE:GREGORIAN
METHOD:PUBLISH
BEGIN:VEVENT
DTSTAMP:20260425T132353Z
UID:0779a907-00f5-4ea4-9e51-699dfd58df31
DTSTART;VALUE=DATE:20160518
DTEND;VALUE=DATE:20160518
DESCRIPTION:Spokane BMX
LOCATION:5701 N Assembly St  Spokane WA 99205 USA
SUMMARY:Track Rental
URL:/site/bmx_races/317830
END:VEVENT
END:VCALENDAR
