BEGIN:VCALENDAR
VERSION:2.0
PRODID:icalendar-ruby
CALSCALE:GREGORIAN
METHOD:PUBLISH
BEGIN:VEVENT
DTSTAMP:20260424T225337Z
UID:4b468c50-8d61-4859-b22f-0c244b64dc66
DTSTART;VALUE=DATE:20160506
DTEND;VALUE=DATE:20160506
DESCRIPTION:Yukon BMX
LOCATION:Taylor Park Sports Complex   410 N 11th St Yukon OK 73064 USA
SUMMARY:Standard Single
URL:/site/bmx_races/318524
END:VEVENT
END:VCALENDAR
