BEGIN:VCALENDAR
VERSION:2.0
PRODID:icalendar-ruby
CALSCALE:GREGORIAN
METHOD:PUBLISH
BEGIN:VEVENT
DTSTAMP:20260425T022838Z
UID:d5462781-14cd-4976-b093-c796e77a2834
DTSTART;VALUE=DATE:20160713
DTEND;VALUE=DATE:20160713
DESCRIPTION:Bigfoot BMX
LOCATION:600 128th St Se  Everett WA 98201 USA
SUMMARY:Practice
URL:/site/bmx_races/318764
END:VEVENT
END:VCALENDAR
