BEGIN:VCALENDAR
VERSION:2.0
PRODID:icalendar-ruby
CALSCALE:GREGORIAN
METHOD:PUBLISH
BEGIN:VEVENT
DTSTAMP:20260421T012433Z
UID:a89ff21c-0a8f-4590-adae-7ed401c7e8a2
DTSTART;VALUE=DATE:20160613
DTEND;VALUE=DATE:20160613
DESCRIPTION:Mag Ridge BMX Park
LOCATION:344 Oldtown Crossing  Ridgeland MS 39157 USA
SUMMARY:Non-Riding Event
URL:/site/bmx_races/319187
END:VEVENT
END:VCALENDAR
